BEGIN:VCALENDAR
VERSION:2.0
PRODID:-//wp-events-plugin.com//7.2.3.1//EN
BEGIN:VEVENT
UID:459@praha19.cz
DTSTART:20241102T110000Z
DTEND:20241102T140000Z
DTSTAMP:20240923T100113Z
URL:https://praha19.cz/akce/bioodpad-2024-6/
SUMMARY:BIOODPAD 2024
DESCRIPTION:2. 11. Sovenická přistaven 13 – 16 hod.\n2. 11. Semčická 
 x Nymburská přistaven 13 – 16 hod.\n
ATTACH;FMTTYPE=image/jpeg:https://praha19.cz/app/uploads/2021/11/bioodpad2
 .jpg
END:VEVENT
END:VCALENDAR