BEGIN:VCALENDAR
VERSION:2.0
PRODID:-//wp-events-plugin.com//7.2.3.1//EN
BEGIN:VEVENT
UID:749@praha19.cz
DTSTART:20260214T130000Z
DTEND:20260214T150000Z
DTSTAMP:20260128T114543Z
URL:https://praha19.cz/akce/divadelko-pro-deti-zviratka-a-loupeznici/
SUMMARY:Divadélko pro děti - Zvířátka a loupežníci
DESCRIPTION:Městská část Praha 19 vás zve na\nDivadélko pro děti - Z
 vířátka a loupežníci\nV sobotu 14. 2. 2026 od 15:00 hodin\n\nvstupné
 : 80\,-Kč\, vstupenky budou v prodeji před představením\n\nKulturní a
  kreativní centrum Kbely\, Mladoboleslavská 1116\, Praha 9 – Kbely\, B
 udova č. 1(bývalý areál PAL)\n\n
ATTACH;FMTTYPE=image/jpeg:https://praha19.cz/app/uploads/2026/01/zviratka.
 jpg
END:VEVENT
END:VCALENDAR