BEGIN:VCALENDAR
VERSION:2.0
PRODID:-//wp-events-plugin.com//7.2.3.1//EN
BEGIN:VEVENT
UID:764@praha19.cz
DTSTART:20260522T150000Z
DTEND:20260522T180000Z
DTSTAMP:20260220T110041Z
URL:https://praha19.cz/akce/hangar-19-indie-workshop-sladke-tvoreni/
SUMMARY:Hangár 19 - INDIE – workshop sladké tvoření
DESCRIPTION:Hangár 19\, Toužimská 244/42\, Praha - Kbely\nINDIE – work
 shop sladké tvoření\n22. 05. 2026 od 17:00 hod.\n\nPovídání:\n\n 	sl
 adkosti v indické kuchyni a jejich symbolika\n 	kokos\, mango a koření 
 v indických dezertech\n 	rozdíl mezi tradičními a moderními indickým
 i sladkostmi\n\nTvoření a ochutnávka:\n\n 	příprava kokosových kuli
 ček Ladoo\n 	práce s mangem a jogurtem\n 	kombinování sladkých chut
 í a jemného koření\n 	tvarování a finální úprava sladkostí\n\nCe
 na:\ndospělý 200\,- Kč | dítě 100\,- Kč\n\nPlatba je v hotovosti na
  místě a rezervace míst na email: koordinator@hangar19.cz\n\n
ATTACH;FMTTYPE=image/jpeg:https://praha19.cz/app/uploads/2026/02/Hangar_In
 die_sladky-1b.jpg
END:VEVENT
END:VCALENDAR