BEGIN:VCALENDAR
VERSION:2.0
PRODID:-//wp-events-plugin.com//7.2.3.1//EN
BEGIN:VEVENT
UID:763@praha19.cz
DTSTART:20260513T160000Z
DTEND:20260513T180000Z
DTSTAMP:20260220T105708Z
URL:https://praha19.cz/akce/hangar-19-indie-workshop-zdraveho-stravovani/
SUMMARY:Hangár 19 - INDIE – workshop zdravého stravování
DESCRIPTION:Hangár 19\, Toužimská 244/42\, Praha - Kbely\nINDIE – work
 shop zdravého stravování \n13. 05. 2026 od 18:00 hod.\n\nPovídání:\n
 \n 	vliv náboženství na indickou kuchyni a stravovací zvyklosti\n 	roz
 manitost indické kuchyně a regionální rozdíly\n 	role koření v indi
 ckém vaření (chuť\, vůně\, rovnováha)\n 	vegetariánství jako při
 rozená součást indické kultury\n 	jídlo jako součást každodenního
  života a tradic\n\nOchutnávka a vaření:\n\n 	příprava Thayir Sadam
  (studená jogurtová rýže)\n 	ochutnávka jednoduchého cizrnového k
 ari\n 	práce s typickým indickým kořením\n 	seznámení se základní
 mi postupy indické kuchyně\n\nCena:\ndospělý 200\,- Kč | dítě 100\,
 - Kč\n\nPlatba je v hotovosti na místě a rezervace míst na email: ko
 ordinator@hangar19.cz\n\n
ATTACH;FMTTYPE=image/jpeg:https://praha19.cz/app/uploads/2026/02/indieb.jp
 g
END:VEVENT
END:VCALENDAR