BEGIN:VCALENDAR
VERSION:2.0
PRODID:-//wp-events-plugin.com//7.2.3.1//EN
BEGIN:VEVENT
UID:805@praha19.cz
DTSTART:20260330T133000Z
DTEND:20260330T160000Z
DTSTAMP:20260325T141950Z
URL:https://praha19.cz/akce/kkck-vytvarna-velikonocni-dilna-pro-deti/
SUMMARY:KKCK - VÝTVARNÁ VELIKONOČNÍ DÍLNA PRO DĚTI
DESCRIPTION:Tvořivá dílnička ve spolupráci s KRC CoByDup pro děti 3 
 - 6 let.\n\nPřijďte si vyrobit květináček s jarním osením. \n\nRe
 zervace míst na: 603 863 809\, vstupné 50 Kč\n30. 3. 2026\, od 15:30 ho
 din v KKC Kbely\n
ATTACH;FMTTYPE=image/jpeg:https://praha19.cz/app/uploads/2026/03/kkcdilnab
 .jpg
END:VEVENT
END:VCALENDAR