BEGIN:VCALENDAR
VERSION:2.0
PRODID:-//wp-events-plugin.com//7.2.3.1//EN
BEGIN:VEVENT
UID:804@praha19.cz
DTSTART:20260504T060000Z
DTEND:20260507T130000Z
DTSTAMP:20260325T135932Z
URL:https://praha19.cz/akce/mobilni-svoz-elektroodpadu-zdarma/
SUMMARY:Mobilní svoz elektroodpadu ZDARMA
DESCRIPTION:Objednejte si svoz ZDARMA pomocí aplikace nebo na tel. 234 235
  236!\n\nGoogle Play https://play.google.com/store/apps/details?id=cz.ase
 kol.aplikace\n\nApple App Store https://apps.apple.com/cz/app/svoz-elektr
 a-asekol/id6447253438\n\nSvozy probíhají v pondělí\, úterý a středu
  od 8:00 do 15:00\, ve čtvrtek od 8:00 do 14:00\n4. - 7. 5. 2026 příšt
 í svoz opět za 10 týdnů\nJe možno odevzdat velké elektrospotřebiče
  (ledničky\, mrazáky\, pračky\, televizory\, monitory)\, drobné domác
 í elektro (kuchyňské přístroje\, IT vybavení)\, elektronářadí\, b
 aterie\, tonery\,\nžárovky\, zářivky a další elektrozařízení. Pos
 taráme se o jejich odvoz a zajistíme odbornou recyklaci.\n\nSlužba je u
 rčena pro domácnosti. Není možné odevzdat jiné druhy odpadů včetn
 ě nebezpečných odpadů (chemikálie\, oleje\, barvy...).\nASEKOL je nej
 větší sběrná síť pro zpětný odběr odpadních elektrozařízení 
 v ČR.\nDěkujeme\, že chráníte životní prostředí a šetříte př
 írodní zdroje.\n\nhttps://praha19.cz/app/uploads/2026/03/PRAHA_19_13K.pd
 f\n\n
ATTACH;FMTTYPE=image/jpeg:https://praha19.cz/app/uploads/2026/03/mobilni_s
 vozb.jpg
END:VEVENT
END:VCALENDAR