BEGIN:VCALENDAR
VERSION:2.0
PRODID:-//wp-events-plugin.com//7.2.3.1//EN
BEGIN:VEVENT
UID:779@praha19.cz
DTSTART:20260325T133000Z
DTEND:20260325T153000Z
DTSTAMP:20260310T103049Z
URL:https://praha19.cz/akce/pojd-si-hrat-a-tvorit-s-anickou-2/
SUMMARY:Pojď si hrát a tvořit s Aničkou
DESCRIPTION:Městská část Praha 19 vás zve do kreativní dílny\nPojď 
 si hrát a tvořit s Aničkou\n25. 3. 2026 od 15:30\n\nTvořivá dílničk
 a pro předškoláky - originální barevné náramky\n\nvstupné: 50\,-K
 č\, rezervace nutná\, počet míst je omezený: 603 863 809\n\nKulturní
  a kreativní centrum Kbely\, Mladoboleslavská 1116\, Praha 9 - Kbely\, B
 udova č. 1(bývalý areál PAL)\n\n&nbsp\;\n\n
ATTACH;FMTTYPE=image/jpeg:https://praha19.cz/app/uploads/2026/03/anickab.j
 pg
END:VEVENT
END:VCALENDAR