BEGIN:VCALENDAR
VERSION:2.0
PRODID:-//wp-events-plugin.com//7.2.3.1//EN
BEGIN:VEVENT
UID:771@praha19.cz
DTSTART:20260407T070000Z
DTEND:20260407T150000Z
DTSTAMP:20260302T143952Z
URL:https://praha19.cz/akce/pre-oznameni-o-preruseni-dodavky-elektriny-37/
SUMMARY:PRE - OZNÁMENÍ O PŘERUŠENÍ DODÁVKY ELEKTŘINY
DESCRIPTION:Z důvodů provádění plánovaných prací na zařízení dis
 tribuční soustavy PREdistribuce\, a.s.\, bude přerušena dodávka elekt
 řiny pro odběrné místo (místa):\n\nDne: 7. 4. 2026 od 8:00 do 16:00 h
 odin\n\nul. Libichovská 257\, 354\, 397\, 166\, 312\, 211\n\nDěkujeme za
  pochopení.\n\nPráce se souhlasem PREdistribuce\, a.s.\, provádí:\n\nF
 irma: AVE ELEKTRO - Jelínek s.r.o.\nJméno a příjmení pověřené osob
 y: Vilém Jelínek\nAdresa: Na Jezerce 1475/26\nTelefon: 731447470\, 25155
 0212\, 734598772\n\nOznámení o přerušení dodávky elektřiny v PDF\n\
 n&nbsp\;\n\n
ATTACH;FMTTYPE=image/jpeg:https://praha19.cz/app/uploads/2021/05/pre-1.png
END:VEVENT
END:VCALENDAR