BEGIN:VCALENDAR
VERSION:2.0
PRODID:-//wp-events-plugin.com//7.2.3.1//EN
BEGIN:VEVENT
UID:747@praha19.cz
DTSTART:20260213T170000Z
DTEND:20260213T214500Z
DTSTAMP:20260128T113041Z
URL:https://praha19.cz/akce/reprezentacni-ples-mc-praha-19/
SUMMARY:Reprezentační ples MČ Praha 19
DESCRIPTION:Městská část Praha 19 vás srdečně zve na\nReprezentačn
 í ples\n13. února 2026 od 19:00 v Lidové domě ve Kbelích\n\nToužimsk
 á 244\, 197 00\, Praha - Kbely\n\nK tanci a poslechu hraje Band New Brand
 \, skvělá zábava a tombola o hodnotné ceny.\n\nVstupenky zakoupíte v 
 pokladně ÚMČ Praha 19\, cena 400\,-Kč\nV rámci akce budou pořizován
 y fotografie a datové záznamy\, které mohou být použity v časopise K
 belák a na facebookovém profilu MČ Praha 19. Vstupem na akci dáváte s
 ouhlas s jejich případným uveřejněním. Vstup pouze ve společenském
  oděvu.\n
ATTACH;FMTTYPE=image/jpeg:https://praha19.cz/app/uploads/2026/01/ples.jpg
END:VEVENT
END:VCALENDAR