BEGIN:VCALENDAR
VERSION:2.0
PRODID:-//wp-events-plugin.com//7.2.3.1//EN
BEGIN:VEVENT
UID:799@praha19.cz
DTSTART:20260425T080000Z
DTEND:20260425T110000Z
DTSTAMP:20260323T170424Z
URL:https://praha19.cz/akce/svoz-bioodpadu-pristaveny-kontejner-43/
SUMMARY:SVOZ BIOODPADU - PŘISTAVENÝ KONTEJNER
DESCRIPTION:25. 4. Benecká x Hanušova přistaven 9 – 12 hod.\n25. 4. Ž
 eleznobrodská x Libichovská přistaven 9 – 12 hod.\n&nbsp\;\n\n
ATTACH;FMTTYPE=image/jpeg:https://praha19.cz/app/uploads/2021/11/bioodpad2
 .jpg
END:VEVENT
END:VCALENDAR