BEGIN:VCALENDAR
VERSION:2.0
PRODID:-//wp-events-plugin.com//7.2.3.1//EN
BEGIN:VEVENT
UID:801@praha19.cz
DTSTART:20260523T080000Z
DTEND:20260523T150000Z
DTSTAMP:20260323T170528Z
URL:https://praha19.cz/akce/svoz-bioodpadu-pristaveny-kontejner-45/
SUMMARY:SVOZ BIOODPADU - PŘISTAVENÝ KONTEJNER
DESCRIPTION:23. 5. Hůlkova přistaven 9 – 12 hod.\n23. 5. Pelnářova x 
 Svijanská přistaven 13 – 16 hod.\n&nbsp\;\n\n
ATTACH;FMTTYPE=image/jpeg:https://praha19.cz/app/uploads/2021/11/bioodpad2
 .jpg
END:VEVENT
END:VCALENDAR