BEGIN:VCALENDAR
VERSION:2.0
PRODID:-//wp-events-plugin.com//7.2.3.1//EN
BEGIN:VEVENT
UID:802@praha19.cz
DTSTART:20260530T080000Z
DTEND:20260530T110000Z
DTSTAMP:20260323T170600Z
URL:https://praha19.cz/akce/svoz-bioodpadu-pristaveny-kontejner-46/
SUMMARY:SVOZ BIOODPADU - PŘISTAVENÝ KONTEJNER
DESCRIPTION:30. 5. Nymburská x Mladějovská přistaven 9 – 12 hod.\n30.
  5. Vágnerova x Vrchlabská přistaven 9 – 12 hod.\n&nbsp\;\n\n
ATTACH;FMTTYPE=image/jpeg:https://praha19.cz/app/uploads/2021/11/bioodpad2
 .jpg
END:VEVENT
END:VCALENDAR