BEGIN:VCALENDAR
VERSION:2.0
PRODID:-//wp-events-plugin.com//7.2.3.1//EN
BEGIN:VEVENT
UID:803@praha19.cz
DTSTART:20260606T080000Z
DTEND:20260606T110000Z
DTSTAMP:20260323T170638Z
URL:https://praha19.cz/akce/svoz-bioodpadu-pristaveny-kontejner-47/
SUMMARY:SVOZ BIOODPADU - PŘISTAVENÝ KONTEJNER
DESCRIPTION:6. 6. Sojovická přistaven 9 – 12 hod.\n6. 6. Hrušovická p
 řistaven 9 – 12 hod.\n&nbsp\;\n\n
ATTACH;FMTTYPE=image/jpeg:https://praha19.cz/app/uploads/2021/11/bioodpad2
 .jpg
END:VEVENT
END:VCALENDAR