BEGIN:VCALENDAR
VERSION:2.0
PRODID:-//wp-events-plugin.com//7.2.3.1//EN
BEGIN:VEVENT
UID:793@praha19.cz
DTSTART:20260328T120000Z
DTEND:20260328T200000Z
DTSTAMP:20260311T144218Z
URL:https://praha19.cz/akce/velikonocni-jarmark-5/
SUMMARY:Velikonoční jarmark
DESCRIPTION:Městská část Praha 19 Kbely vás srdečně zve na tradičn
 í\nVelikonoční jarmark\nkterý se uskuteční 28. března od 14 hodin v
  Centrálním parku. Přijďte si užít odpoledne plné jarní atmosféry
 \, zábavy a velikonočních tradic pro malé i velké.\n\nNa co se může
 te těšit:• slavnostní zahájení moderátorem Vítem Maštalířem•
  vystoupení dětí z mateřských škol• animátorský program pro dět
 i• tradiční vynášení Morany a průvod• kouzelnické vystoupení p
 lné magie a humoru• dětská diskotéka s animátory• kejklíř se z
 ábavným programem• hudební vystoupení kapely Illegální Bobr\n\nPo 
 celou dobu programu:• soutěže a tvořivé dílny pro děti• prodejn
 í stánky• hudba a občerstvení\n\nPřijďte s rodinou a přáteli př
 ivítat jaro a užít si příjemné odpoledne v Centrálním parku.\nTě
 šíme se na vás!\n
ATTACH;FMTTYPE=image/jpeg:https://praha19.cz/app/uploads/2026/03/jarmarkb.
 jpg
END:VEVENT
END:VCALENDAR